BEGIN:VCALENDAR
VERSION:2.0
PRODID:-//Be In Albania - ECPv6.14.0//NONSGML v1.0//EN
CALSCALE:GREGORIAN
METHOD:PUBLISH
X-WR-CALNAME:Be In Albania
X-ORIGINAL-URL:https://www.beinalbania.com
X-WR-CALDESC:Events for Be In Albania
REFRESH-INTERVAL;VALUE=DURATION:PT1H
X-Robots-Tag:noindex
X-PUBLISHED-TTL:PT1H
BEGIN:VTIMEZONE
TZID:Europe/Istanbul
BEGIN:STANDARD
TZOFFSETFROM:+0300
TZOFFSETTO:+0300
TZNAME:+03
DTSTART:20190101T000000
END:STANDARD
END:VTIMEZONE
BEGIN:VEVENT
DTSTART;TZID=Europe/Istanbul:20190604T100000
DTEND;TZID=Europe/Istanbul:20190606T200000
DTSTAMP:20260420T024500
CREATED:20190409T201818Z
LAST-MODIFIED:20190409T201818Z
UID:9554-1559642400-1559851200@www.beinalbania.com
SUMMARY:Balkan Modus Nutriendi
DESCRIPTION:https://www.facebook.com/KlikEkspoGroup1/photos/gm.2342900152438872/2598438373561937/?type=3&theater \nKlik Ekspo Group\, përherë i ndjeshëm dhe i përgjegjshëm ndaj çka është sociale\, organizon në datat 3 – 6 Maj\, Balkan Modus Nutriendi\, një Atelier që reflekton mbi produktet autentike dhe zgjidhjet pro-mjedisore\, në një koncept “nga Toka në Tryezë”\, me vëmendje të veçantë tek Bio dhe SlowFood. \n BusinessHuman: sipërmarrje qe operojnë në sektorin agro-ushqimor\, te kujdesshëm ndaj produkteve organike dhe bio\, apo që në thelb te tyre kane biznesin social dhe solidar;\n Nga Toka në Tryezë\, sipërmarrjet rurale qe përmes pjesëmarrjes mund te kenë te garantuar shitje sezonale te produkteve “te tokës se tyre”;\n Turizmi Gastronomik: Do të mëtohet nder te tjera qe te risillen ne vëmendje dokumente e botime qe me spontanitet spontanitetit ndihmojnë që të rizbulohen imazhe e vende të humbura a harruara\, kultura e tradita zejesh e punimit të tokës\, takim me kafshë pune a shtëpiake në lirinë e tyre natyrale; zbulime dhe rizbulime të tilla\, kthejnë reflektorët ndaj tokës si e mirë e përbashkët. \nMbledhje të Ëmbla:\nHa siç e lexon!: degustime dhe rikrijime gostish të marrë nga Librat;\nGati sytë e mprehur të kuriozëve për të pare pajime antike\, libra të vjetër recetash te ruajtur me përkujdesje deri me sot\, nga koleksionistë privatë;\nEkspoFolk: ekspozita e këngëve dhe gojëdhënave\, takëmeve dhe zakoneve të tryezës sipas krahinave\, brezave\, klasave\, zakoneve\, dokeve; shpirti i sofrave në folklor dhe letërsi. \nÇfarë mund të ekspozosh:\n• Bio & Slow Food\n• Çaj\, kafe\, përpunues e shpërndarës\n• Pije freskuese\, joalkoolike\n• Verëra dhe pije alkoolike\, likerna\n• Përpunim i qumështit dhe nënproduktet\n• Prodhime furre\, brumëra dhe ëmbëlsira\n• Produkte tipike lokale shqiptare dhe te Rajonit\n• Arti i Tryezës\, takëmet\, mënyra e servirjes;\n• Libra & botime për bonton në tryezë\n• Botime për artin e të ushqyerit shëndetshëm\n• Botime të ushqimeve të rralla\, autoktone\, mesdhetare
URL:https://www.beinalbania.com/event/balkan-modus-nutriendi/
LOCATION:National Historical Museum Tirana\, Albania\, Tirane\, Tirana\, Albania
CATEGORIES:Billboard
END:VEVENT
BEGIN:VEVENT
DTSTART;TZID=Europe/Istanbul:20190518T120000
DTEND;TZID=Europe/Istanbul:20190518T230000
DTSTAMP:20260420T024500
CREATED:20190409T201528Z
LAST-MODIFIED:20190409T201539Z
UID:9551-1558180800-1558220400@www.beinalbania.com
SUMMARY:Colour Day Festival Albania 2019
DESCRIPTION:https://www.facebook.com/ColourDayFestivalAlbania/photos/gm.1294378490723039/1428631900606888/?type=3&theater \nColour Day Festival Albania 2019 \nColour Day Festival kthehet në Shqipëri dhe është gati të transformojë Sheshin Nënë Tereza në një telajo të madhe me njerëz të ngjyrosur. Festivali po bëhet gjithnjë edhe më i madh. Nëse vitin e kaluar ishte fantastik\, këtë vit do të jetë edhe më i mrekullueshëm! Ruaj ditën\, sepse më 18 Maj do të jetojmë një eksperiencë që do të na ndryshoj perceptimin e jetës!\n—————————————————————————-\nKur\n18 Maj 2019\n——————————————————————————\nKu\nSheshi Nënë Tereza\, Tiranë\, Shqipëri\n——————————————————————————–\nCfarë do të ndodhë\n🙌Pika shitje të ngjyrave\n🙌Performanca të veçanta\, surpriza dhe aktivitete\n🙌live të këngëtarëve\, DJ dhe bendeve të njohur në mbarë shqiptarinë dhe botën\n———————————————————————————–\n🔖🔖🔖🔖🔖🔖🔖 \nShitja e biletave fillon me datë 1 Mars! Blini tani biletën Early Bird të Colour Day Festival! \nBiletat Early Bird kushtojnë: 800 LEKË/ 7 € (Kujdes: Sasia është e limituar!) \nJu mund të blini biletat tuaj në mënyrat e mëposhtme: \nOnline: http://bit.ly/colourdayfestival_albania_tickets \nFizikisht: \n•Në çdo pikë EasyPay në të gjithë Shqipërinë \n•Në RAVE Travel në të gjithë Kosovën \nPasi të përfundoj shitja e biletave Early Bird\, çmimi për biletat Presale është 1.000 Lekë. Ditën e koncertit datë 18 Maj çmimi është 1.500 Lekë \n(Me blerjen e biletës ju përfitoni hyrjen dhe një qese boje falas) \n#earlybirds #presale #oferte #skonto #biletafestivali #biletaeventi #event #festivalmuzike #ngjyra \n———————————————————————————\n🗞🗞🗞🗞🗞🗞🗞🗞🗞🗞\nPër më shumë informacion:\n📨EMAIL: albania@colourdayfestival.com\n☎TEL: +355 67 204 7800\n———————————————————————————–\nNa gjeni në mediat sociale:\nhttps://www.facebook.com/ColourDayFestivalAlbania\nhttps://www.instagram.com/colourdayfestival_albania/\nhttps://www.colourdayfestival.com/albania/ \n#colourdayfestival_albania #18maj #2K19 #Tirana \n——————————————————————————–\nColour Day Festival Albania 2019 \nColour Day Festival returns to Albania and is ready to transform Mother Tereza Square to an even bigger canvas of colourful people. The festival keeps getting bigger and bigger\, so if last year was great\, this year is going to be awesome! So save the day because on May 18th we are going to live a lifechanging experience!\n—————————————————————————-\nWhen\n18 May 2019\n————————————————————————–\nWhere\nMother Tereza Square\, Tirana\, Albania\n—————————————————————————-\n🔖🔖🔖🔖🔖🔖🔖\nWhat is going to happen\n🙌Group drops of colour\n🙌Special acts\, surprises and activities\n🙌Live performance of worldwide famous singers\, DJs and Bands. \nTicket presale will be on on May 1st! Be an early bird and buy your Colour Day Festival Ticket now almost half the price!!!\nEarly Bird Tickets Price: 800 Lekë (causion: limited number).\nPre-Sale Tickets Price: 1000 Lekë\nDoor Tickets: 1500 Lekë \nPhysical Stores:\n• To every EASY PAY store across Albania\n• To every RAVE store throughout Kosovo \nYou can also obtain your tickets online here: http://bit.ly/colourdayfestival_albania_tickets\n—————————————————————————-\nFor more information:\n📨EMAIL: albania@colourdayfestival.com\n☎TEL: +355 67 204 7800\n—————————————————————————-\nFind us on social media:\nhttps://www.facebook.com/ColourDayFestivalAlbania\nhttps://www.instagram.com/colourdayfestival_albania/\nhttps://www.colourdayfestival.com/albania/
URL:https://www.beinalbania.com/event/colour-day-festival-albania-2019-2/
LOCATION:Colour Day Festival Albania\, Sheshi Nënë Tereza\, 1010\, Tiranë\, Shqipëria\, Tirana\, Albania
CATEGORIES:Billboard
END:VEVENT
BEGIN:VEVENT
DTSTART;TZID=Europe/Istanbul:20190518T120000
DTEND;TZID=Europe/Istanbul:20190518T120000
DTSTAMP:20260420T024500
CREATED:20190501T100042Z
LAST-MODIFIED:20190501T100042Z
UID:9582-1558180800-1558180800@www.beinalbania.com
SUMMARY:Colour Day Festival Albania 2019
DESCRIPTION:https://www.facebook.com/ColourDayFestivalAlbania/photos/gm.1343629825797905/1495605547242856/?type=3&theater \nColour Day Festival Albania 2019 \nColour Day Festival kthehet në Shqipëri dhe është gati të transformojë Sheshin Nënë Tereza në një telajo të madhe me njerëz të ngjyrosur. Festivali po bëhet gjithnjë edhe më i madh. Nëse vitin e kaluar ishte fantastik\, këtë vit do të jetë edhe më i mrekullueshëm! Ruaj ditën\, sepse më 18 Maj do të jetojmë një eksperiencë që do të na ndryshoj perceptimin e jetës!\n—————————————————————————-\nKur\n18 Maj 2019\n——————————————————————————\nKu\nSheshi Nënë Tereza\, Tiranë\, Shqipëri\n——————————————————————————–\nCfarë do të ndodhë\n🙌Pika shitje të ngjyrave\n🙌Performanca të veçanta\, surpriza dhe aktivitete\n🙌live të këngëtarëve\, DJ dhe bendeve të njohur në mbarë shqiptarinë dhe botën\n———————————————————————————–\n🔖🔖🔖🔖🔖🔖🔖 \nShitja e biletave fillon me datë 1 Mars! Blini tani biletën Early Bird të Colour Day Festival! \nBiletat Early Bird kushtojnë: 800 LEKË/ 7 € (Kujdes: Sasia është e limituar!) \nJu mund të blini biletat tuaj në mënyrat e mëposhtme: \nOnline: http://bit.ly/colourdayfestival_albania_tickets \nFizikisht: \n•Në çdo pikë EasyPay në të gjithë Shqipërinë \n•Në RAVE Travel në të gjithë Kosovën \nPasi të përfundoj shitja e biletave Early Bird\, çmimi për biletat Presale është 1.000 Lekë. Ditën e koncertit datë 18 Maj çmimi është 1.500 Lekë \n(Me blerjen e biletës ju përfitoni hyrjen dhe një qese boje falas) \n#earlybirds #presale #oferte #skonto #biletafestivali #biletaeventi #event #festivalmuzike #ngjyra \n———————————————————————————\n🗞🗞🗞🗞🗞🗞🗞🗞🗞🗞\nPër më shumë informacion:\n📨EMAIL: albania@colourdayfestival.com\n☎TEL: +355 67 204 7800\n———————————————————————————–\nNa gjeni në mediat sociale:\nhttps://www.facebook.com/ColourDayFestivalAlbania\nhttps://www.instagram.com/colourdayfestival_albania/\nhttps://www.colourdayfestival.com/albania/ \n#colourdayfestival_albania #18maj #2K19 #Tirana \n——————————————————————————–\nColour Day Festival Albania 2019 \nColour Day Festival returns to Albania and is ready to transform Mother Tereza Square to an even bigger canvas of colourful people. The festival keeps getting bigger and bigger\, so if last year was great\, this year is going to be awesome! So save the day because on May 18th we are going to live a lifechanging experience!\n—————————————————————————-\nWhen\n18 May 2019\n————————————————————————–\nWhere\nMother Tereza Square\, Tirana\, Albania\n—————————————————————————-\n🔖🔖🔖🔖🔖🔖🔖\nWhat is going to happen\n🙌Group drops of colour\n🙌Special acts\, surprises and activities\n🙌Live performance of worldwide famous singers\, DJs and Bands. \nTicket presale will be on on May 1st! Be an early bird and buy your Colour Day Festival Ticket now almost half the price!!!\nEarly Bird Tickets Price: 800 Lekë (causion: limited number).\nPre-Sale Tickets Price: 1000 Lekë\nDoor Tickets: 1500 Lekë \nPhysical Stores:\n• To every EASY PAY store across Albania\n• To every RAVE store throughout Kosovo \nYou can also obtain your tickets online here: http://bit.ly/colourdayfestival_albania_tickets\n—————————————————————————-\nFor more information:\n📨EMAIL: albania@colourdayfestival.com\n☎TEL: +355 67 204 7800\n—————————————————————————-\nFind us on social media:\nhttps://www.facebook.com/ColourDayFestivalAlbania\nhttps://www.instagram.com/colourdayfestival_albania/\nhttps://www.colourdayfestival.com/albania/
URL:https://www.beinalbania.com/event/colour-day-festival-albania-2019-3/
LOCATION:Tirane\, Tirane
CATEGORIES:Billboard
END:VEVENT
BEGIN:VEVENT
DTSTART;TZID=Europe/Istanbul:20190510T100000
DTEND;TZID=Europe/Istanbul:20190510T200000
DTSTAMP:20260420T024500
CREATED:20190501T100914Z
LAST-MODIFIED:20190501T100914Z
UID:9588-1557482400-1557518400@www.beinalbania.com
SUMMARY:4th Edition\, Food & Drink Festival 2019
DESCRIPTION:https://www.facebook.com/ExpocityAlbania/photos/gm.641146969642425/2131065263668027/?type=3&theater \n4th Edition\, Food & Drink Festival 2019!\nMay 10-12\, 2019 at Expocity Albania!\nWith the support of: Ministry of Agriculture and Rural Development\nPlatinium Sponsor: AKU ( Autoriteti Kombetar i Ushqimit )\nSilver Partner: Big Market \nSave the date!\nFor more info\, please contact: marketing@expocity.al\n***\nEdicioni 4rt\, Food & Drink Festival 2019!\nNe datat 10-12 Maj\, 2019 ne Expocity Albania!\nMe mbeshtetjen e: Ministrisë së Bujqësisë dhe Zhvillimit Rural\nSponsor Platinium: AKU ( Autoriteti Kombetar i Ushqimit )\nSponsor Silver: Silver Partner: Big Market \nRezervo daten!\nPer me teper info\, kontaktoni marketing@expocity.al
URL:https://www.beinalbania.com/event/4th-edition-food-drink-festival-2019/
LOCATION:Expocity Albania\, Autostrada Tirane-Durres\, km 8\, godina Expo City (ish Autocity)\,\, Tirana\, Albania
CATEGORIES:Billboard
ORGANIZER;CN="Expocity Albania":MAILTO:info@expocity.al
END:VEVENT
BEGIN:VEVENT
DTSTART;TZID=Europe/Istanbul:20190504T100000
DTEND;TZID=Europe/Istanbul:20190504T170000
DTSTAMP:20260420T024500
CREATED:20190501T095343Z
LAST-MODIFIED:20190501T095610Z
UID:9576-1556964000-1556989200@www.beinalbania.com
SUMMARY:Sazan & Karaburun
DESCRIPTION:Shetitje me Anije\, dreke\, muzike…Fjetje ne Hotel\, Darke dhe Mbremje me muzike Live..vet \nhttps://www.facebook.com/eloiseanddad/photos/gm.267512560828791/2073391262951190/?type=3&theater \nem 4000 leke personi..
URL:https://www.beinalbania.com/event/sazan-karaburun/
LOCATION:Vlore\, Vlore\, Albania
CATEGORIES:Billboard
END:VEVENT
BEGIN:VEVENT
DTSTART;TZID=Europe/Istanbul:20190503T080000
DTEND;TZID=Europe/Istanbul:20190504T210000
DTSTAMP:20260420T024500
CREATED:20190409T202227Z
LAST-MODIFIED:20190409T202227Z
UID:9559-1556870400-1557003600@www.beinalbania.com
SUMMARY:Nivicë - Përmet - Thermal Bënja - 2 days
DESCRIPTION:https://www.facebook.com/outing.al/photos/gm.2325437390809213/2348612275157526/?type=3&theater \nPer ata qe nuk paten mundesi te na bashkohen te dielen ne 3-4 Maj do ye organizojme nje event 2 ditor ne Nivice\,Permet dheBanjat e Benjes. \nEjani të festojmë së bashku “Diten e Veres” në qytetin e Përmetit.Gjatë këtij udhëtimi turistik do të vizitojmë fillimisht qytetin e Përmetit ne panairin per Diten e Veres për te shijuar gatesat e shumta përmetare . Do të shohim nga afër atraksionet turistike të qytetit dhe Bënjës.\nBanjat Termale Bënjë\,Gryka_e_Këlcyrës\,Ura e Katiut\, Uji i Ftohtë Tepelenë\, Qyteti i Pëmetit të gjitha pjesë e një udhëtimi të paharruar 17 Mars 2000 lekë. 👙 \n📲Rezervoni 📞 në 0674978431 \n📖 Programi:\n🚐 Nisemi në orën 06:00 tek Kafe Flora Mine Peza pasi jemi mbledhur i gjithë grupi.\n☕ Vazhdojmë udhëtimin e më pas ndalojmë për kafen e mëngjesit rreth 20 min.\n🚥 Ndalesë tek Uji i Ftohtë i Tepelenës.\n🛁 Rreth orës 11:00 ne qytetin e permetit ku organizohet panairi per Diten e Veres.Ne dreke sipas deshires shkojme tek Vaskat Termale ose marrim pjese ne aktivitetet qe organizohen ne Permet. Bëhet fjalë për një vend me vlera kurative universale dhe një destinacion krejt të veçantë turistik të rajonit jugor.\n🚤 Natyra përreth këtyre kanioneve është e jashtëzakonshme\, tipike shqiptare\, që nuk e ka asnjë vënd tjetër në botë. Peizazhi natyror i këtij lumi deri tani të harruar\, është nga më piktoreskët në gjithë Shqipërinë.\nPasi jemi larë në Vaskat Termale nisemi për një vizitë të shkurtër drejt qytetit të Përmetit ose siç njihet ndryshe qyteti i trëndafilave dhe më pas tek Gryka e Këlcyrës.\n🔙 Nisja drejt Tiranës rreth orës 17:30.\n🏁Mbërritja në Tiranë rreth orës 21:30⌚️ \n💎NJË DITË PËR TË MOS U HUMBUR !\n📢 Duhet të keni me vete:\n🔷Rroba sportive\n🔷Ushqime të thata\n🔷Çokollata\n🔷Shishe uji 1.5L\n🔷Rroba plazhi\n🔷Syze & kapele\n🔷Krem dielli\n😊Buzëqeshjen tuaj \nNë çmimin 2000 lekë përfshihet:\n✅ Transporti komod furgona 20 Vendesh\n✅ Shoqërues Grupi
URL:https://www.beinalbania.com/event/nivice-permet-thermal-benja-2-days/
LOCATION:Permet\, Permet\, Albania
CATEGORIES:Billboard
END:VEVENT
BEGIN:VEVENT
DTSTART;TZID=Europe/Istanbul:20190501T133000
DTEND;TZID=Europe/Istanbul:20190501T143000
DTSTAMP:20260420T024500
CREATED:20190501T095020Z
LAST-MODIFIED:20190501T095020Z
UID:9572-1556717400-1556721000@www.beinalbania.com
SUMMARY:Education in U.S. /Arsimi në Shtetet e Bashkuara
DESCRIPTION:🇦🇱️ | Jeni studentë të interesuar për të vazhduar arsimin në Shtetet e Bashkuara? Mësoni mbi hapat për një proces të suksesshëm aplikimi nga personeli i EducationUSA Albania të mërkurën\, 1 maj\, nga ora 13:30 deri në 14:30\, në sallën e konferencave Kostandin Shpataraku\, në Muzeun Historik Kombëtar\, në katin e dytë. \n🇺🇸️ | Are you a student interested in pursuing your studies in the United States? Learn about the steps for a successful application process from EducationUSA Albania staff on Wednesday\, May 1st @ 13:30 – 14:30 in the Kostandin Shpataraku conference room\, at the National History Museum on the 2nd floor. \nhttps://www.facebook.com/usembassytirana/photos/gm.405424963517913/10156331445510838/?type=3&theater
URL:https://www.beinalbania.com/event/education-in-u-s-arsimi-ne-shtetet-e-bashkuara/
LOCATION:Muzeu Historik Kombetar\, MuzeSheshi Skenderbej 1\, Tirana\, Albania\, Tirana\, Albania
CATEGORIES:Billboard
END:VEVENT
BEGIN:VEVENT
DTSTART;TZID=Europe/Istanbul:20190430T100000
DTEND;TZID=Europe/Istanbul:20190502T210000
DTSTAMP:20260420T024500
CREATED:20190501T101304Z
LAST-MODIFIED:20190501T101304Z
UID:9592-1556618400-1556830800@www.beinalbania.com
SUMMARY:WORK AND STUDY Fair
DESCRIPTION:https://www.facebook.com/344520959414752/photos/gm.1473977509404192/570852060114973/?type=3&theater \nEnde i papunë? \nPaniri “Work and Study” për një karrierë të suksesshme dhe studime drejt universiteteve më të mira në Shqipëri. Për herë të parë në këtë edicion të dhjetë do të jenë pjesëmarrës universitetet më me zë në Europe.\nBëhu pjesë dhe ti! \nTel:045 800 939\ne-mail: panairi-ws@cci.al\nVizitoni faqen web: www.workstudy.al
URL:https://www.beinalbania.com/event/work-and-study-fair/
LOCATION:Muzeu Historik Kombetar\, MuzeSheshi Skenderbej 1\, Tirana\, Albania\, Tirana\, Albania
CATEGORIES:Billboard
END:VEVENT
BEGIN:VEVENT
DTSTART;TZID=Europe/Istanbul:20190423T190000
DTEND;TZID=Europe/Istanbul:20190423T220000
DTSTAMP:20260420T024500
CREATED:20190409T201049Z
LAST-MODIFIED:20190409T201049Z
UID:9547-1556046000-1556056800@www.beinalbania.com
SUMMARY:Olen Cesari - Live in Tirana 2019
DESCRIPTION:  \nhttps://www.facebook.com/LiveinTirana/videos/863085144025893/?active_tab=discussion&acontext=%7B%22action_history%22%3A%5B%7B%22mechanism%22%3A%22recent_posts_card%22%2C%22surface%22%3A%22permalink%22%2C%22extra_data%22%3A%22%5B%5D%22%7D%2C%7B%22surface%22%3A%22permalink%22%2C%22mechanism%22%3A%22recent_posts_card%22%2C%22extra_data%22%3A%22%5B%5D%22%7D%5D%7D \nBiletat shiten te Pallati i Kongreseve\n(hyrja e pasme)\nOrari 9am – 9pm.\n–\nKthehet në Shqipëri Olen Çezari\, me grupin e tij “International Clandestine Orchestra” me qëllim që të përsërit suksesin e kaluar dhe ta tejkaloj\, duke rivënë në skenë një tjetër event të paharrueshëm.\n_\nTë ftuar special: Alessandro Mannarino\, Guo Gan\, Eden\, Pepe Sanchez\, Lavinia Mancusi edhe Bes Kallaku.\n–\nSponsor Gjeneral:\nAmerican Bank of Investments\n–\nProdhuar nga:\nOC International\nVier Creative
URL:https://www.beinalbania.com/event/olen-cesari-live-in-tirana-2019/
LOCATION:Pallati i Kongreseve\, Frederik Shiroka\, Tirana\, Albania
CATEGORIES:Billboard
END:VEVENT
BEGIN:VEVENT
DTSTART;TZID=Europe/Istanbul:20190323T090000
DTEND;TZID=Europe/Istanbul:20190323T150000
DTSTAMP:20260420T024500
CREATED:20190315T001350Z
LAST-MODIFIED:20190315T001600Z
UID:9525-1553331600-1553353200@www.beinalbania.com
SUMMARY:Arti Dhe Shkenca E Mësimdhënies - Trajnimi I Mësuesve
DESCRIPTION:https://www.facebook.com/bycouncil.org/photos/gm.1948570945198414/2175587005991327/?type=3&theater \nPas suksesit të trajnimit të parë për mësuesit anembanë Republikës së Shqipërisë dhe rajonit\, Këshilli Rinor i Ballkanit organizon trajnimin e dytë të Projektit “+ Education: The Science Of Teaching – Using Data and Scientific Methodology In Education.\, me mësuesit nga Shqipëria dhe Rajoni i cili përbëhet nga një zinxhir trajnimesh nga ekspertët dhe profesionistët e institucioneve arsimore\, ku ata do të trajnojnë mësuesit se si të sillen dhe të veprojnë me nxënësit në situata të caktuara. \nBazuar në vizionin tonë për arsimin\, Këshilli Rinor Ballkanik po zhvillon një strategji ndërkombëtare për përmirësimin e arsimit në Gadishullin Ballkanik. Vizioni ynë për këto strategji është të mbështesim njerëzit kryesorë ose mjetet që janë ekspertë në promovimin e parimeve të edukimit cilësor. Kontributi ynë për arsimin i sjell në rajonin tonë zhvillim social\, politik\, kulturor dhe ekonomik. \nStrategjia jonë e punës përbëhet nga ndërtimi i besimit dhe marrëdhënieve. Mësuesit duhet të njohin dhe t’i besojnë studentëve në mënyrë që të fitojnë një ndikim stërvitor. Edhe pse ka një dështim\, përmes këtij trajnimi ne bindim publikun se ka ende një shans për të minuar përpjekjet tona më të mira. \nNe duam nga mësuesit që të japin praktikat më të mira modeluese\, pasi që stërvitja efektive shpesh përfshin modelimin e praktikave më të mira. Për më tepër\, një pikë e rëndësishme e strategjisë është lidhja e Mësimdhënësve me Burime\, me qëllim të hulumtimit të mundësive për studentët e tyre. Seria e trajnimeve do të zhvillohet në Shqipëri\, Bosnje dhe Herzegovinë\, Maqedoni\, Mal të Zi dhe Kosovë. \nKy trajnim do të mbahet në Tirane në daten 23 Mars 2019\, te Tirana International Hotel \, 15 kateshi. Për detaje të hollësishme rreth trajnuesve dhe organizimit\, ne do t’ju informojmë vazhdimisht në emaile dhe në faqen tonë ( www.facebook.com/bycouncil.org dhe www.bycouncil.org) \nTrajnimi kushton 2000 Lekë Të Reja dhe përfshin : \n– 3 Trajnime – Workshope\n– 1 Kafe Pushim\n– Çertifikatë Pjesëmarrje\n– Mundësinë për të qënë trajnues/trajnuese në platformat tona. \nLINKU I APLIKIMIT : https://goo.gl/y8WfJb \nPër çdo pyetje dhe asistencë\, mos hezitoni të na kontaktoni plus-edukim@bycoucil.org ose secretariat@bycouncil.org
URL:https://www.beinalbania.com/event/arti-dhe-shkenca-e-mesimdhenies-trajnimi-i-mesuesve/
LOCATION:Tirana International Hotel & Conference\, Scanderbeg Square\, 1000 Tirana\, Albania\, Tirana\, Albania
CATEGORIES:Billboard
ORGANIZER;CN="Balkans Youth Council - BYC":MAILTO:hotel@hoteltirana.com.al
END:VEVENT
BEGIN:VEVENT
DTSTART;TZID=Europe/Istanbul:20190317T060000
DTEND;TZID=Europe/Istanbul:20190317T220000
DTSTAMP:20260420T024500
CREATED:20190314T165548Z
LAST-MODIFIED:20190314T165548Z
UID:9519-1552802400-1552860000@www.beinalbania.com
SUMMARY:Ecje në Malin e Krujës
DESCRIPTION:Të Nderuar Miq\, \nKlubi Alpin Prishtina ju fton të merrni pjesë në aktivitetin së dielës në Malin e Krujës në Shqipëri. Mali i Krujës quhet Ballkoni i Adriatikut për pamjen e bukur që ofron. \nPjesëmarrësit do të kenë mundësinë të përcaktohen si më poshtë: \nGrupi A: Në Krujë mundësia për të vizituar Pazarin e Vjetër dhe dy muzeume\, Muzeun Etnografik dhe Muzeun Gjergj Kastrioti Skenderbeu\, që ndodhen brenda kështjellës. Pas pjesës kulturore\, pason me hiking tek Shpella e Shenjtë e Sari Salltik\, i adhuruar si shenjtor nga bektashinjtë e Ballkanit. Shtegu është përdorur prej gati 8 shekujsh nga pelegrinët që luten tek teqeja brenda në shpellë. Shtegu është 2.5km i gjatë me 600m disnivel\, i përshtatshëm për bjeshkatarë fillestar dhe mesatar. Pamje e bregdetit prej malësisë së Rumijes në Mal të Zi\, Velipojë\, Laguna e Kunes Lezhë\, Kepi i Rodonit\, Laguna e Karavastasë\, deri në Sazan e Karaburun. Nga lindja pamje e malit të Skënderbeut\, Qafështama\, mali i Papatit\, mali me Gropa etj. \nGrupi B: Nisje nga Kruja\, ecje përgjatë anës perëndimore të malit deri tek gryka e Shkallës së Zezë. Vizitë shpellës së dytë të shenjtë të Sarisalltikut dhe ngjitja në kurriz të malit të Krujës. Ecje përgjatë kurrizit deri tek Shpella e Shenjtë e Sarisalltikut ku bashkohet me grupin A për për të kryer së bashku zbritjen. Shtegu është 15km me 1100m disnivel\, një drejtim\, i përshtatshëm për bjeshkatarë me përgatitje paksa mbi mesataren. Shpella e dytë e Sarisalltikut ka një koloni me lakuriq nate\, prandaj vizitorët duhet të jenë të kujdesshëm mos i shqetësojnë. Përvec pamjeve të mësipërme\, pamje e maleve të Dajtit\, Priskës\, Gamtit\, Grykës së Shkallës së Zezë. \nNë pikën kulmore të Masivit të Krujës\, do të bëhet një pushim i gjatë në resorin hotelier\, para nisjes për Prishtinë \nDetajet e Organizimit:\nNisja e Saktë: e Diel\, 17.03.2019 / ora 06:00\nVendi i Nisjes: Para parkingut të RTV 21\nLloji i Transportit: Autobus\nParticipimi për pjesëmarrje: 15 €\nAfati i Fundit për Rezervim: E Shtunë \nSi të Rezervoni:\nE-mail (alpineclubprishtina@gmail.com); (www.facebook.com/KlubiAlpin/) ose në Tel:+ 377 44 240 517 (SMS\, Viber).E dërgoni Emrin-at Mbiemrin-at; dhe e prisni konfirmimin.\nVëmendje: Në rast të plotësimit të parakohshëm të numrit të ulëseve në autobus\, ndërprehet rezervimi. \nInformata shtesë\nMoti është i ngrohtë deri në 15 gradë dhe i kthjellët. Duhet ti keni me vete Leternjoftimin Biometrik ose Pasaporten. Gjithashtu\, merrni xhaketë dhe ndërresa rezervë. \nUdhërrëfyes: Andel Trebicka dhe Qëndrim Sopi \nKAP ju dëshiron vikend të këndshëm \nhttps://www.facebook.com/KlubiAlpin/photos/gm.1169055919935001/3063223023703333/?type=3&theater
URL:https://www.beinalbania.com/event/ecje-ne-malin-e-krujes/
LOCATION:Krujë\, Krujë\, Albania
CATEGORIES:Billboard
ORGANIZER;CN="Klubi Alpin Prishtina":MAILTO:albineclubprishtina@gmail.com
END:VEVENT
BEGIN:VEVENT
DTSTART;VALUE=DATE:20190101
DTEND;VALUE=DATE:20200101
DTSTAMP:20260420T024500
CREATED:20190115T161304Z
LAST-MODIFIED:20190729T234632Z
UID:9292-1546300800-1577836799@www.beinalbania.com
SUMMARY:Cook with Jona
DESCRIPTION:https://www.instagram.com/p/BvTvsu2H0P2/ \nHomemade recipes by Jona Sulejmani. \nEnjoy!
URL:https://www.beinalbania.com/event/cook-with-jona-cookwithjona-blog/
LOCATION:Albania
CATEGORIES:Billboard
END:VEVENT
END:VCALENDAR